BEGIN:VCALENDAR
VERSION:2.0
PRODID:-//Library Market//iCal Export//EN
BEGIN:VEVENT
SUMMARY:Juneteenth Flag Raising
UID:1133
DTSTAMP:20260423T200900Z
DTSTART:20260616T220000Z
DTEND:20260616T230000Z
LOCATION:520 Hoes Ln, Piscataway, NJ 08854, United States
ROOM: Juneteenth Flag Raising
DESCRIPTION: Council Vice President Sharon Carmichael (Ward 3) invites yo
 u and your family to attend the Piscataway Civil Rights Advisory Commissio
 n&#039;s Juneteenth flag raising followed by light refreshments inside the
  Community Center.NO REGISTRATION NECESSARY TO ATTEND THE FLAG RAISING. Ho
 wever, If you plan on partaking in the reception, please RSVP below so we 
 can plan accordingly. 
URL:https://piscatawaynj.librarycalendar.com/event/juneteenth-flag-raising
 -1133
END:VEVENT
END:VCALENDAR
