BEGIN:VCALENDAR
VERSION:2.0
PRODID:-//Library Market//iCal Export//EN
BEGIN:VEVENT
SUMMARY:90+ Birthday Bash
UID:1198
DTSTAMP:20260421T211200Z
DTSTART:20260515T150000Z
DTEND:20260515T170000Z
LOCATION:Piscataway Senior Citizens Center, 700 Buena Vista Ave, Piscatawa
 y, NJ 08854, United States
ROOM: 90+ Birthday Bash
DESCRIPTION:The Middlesex County Office of Aging &amp; Disabled Services i
 s hosting a 90+ Birthday Celebration at the Piscataway Senior Center to ho
 nor and celebrate our oldest and wisest residents from Piscataway, Dunelle
 n, Middlesex Borough, South Plainfield, New Brunswick, Milltown, Highland 
 Park and North Brunswick, aged 90 and above, during Older Americans Month.
 Registration is required, each honoree may bring one guest and lunch will 
 be provided. Click here to register.If you need transportation and/or if y
 ou are already a member of the Piscataway Senior Center and need help fill
 ing out the registration form, please call it at (732) 562-1133.
URL:https://piscatawaynj.librarycalendar.com/event/90-birthday-bash-1198
END:VEVENT
END:VCALENDAR
