BEGIN:VCALENDAR
VERSION:2.0
PRODID:-//Library Market//iCal Export//EN
BEGIN:VEVENT
SUMMARY:Dine Below the Line
UID:1223
DTSTAMP:20260423T142700Z
DTSTART:20260709T220000Z
DTEND:20260710T000000Z
LOCATION:Piscataway Senior Citizens Center, 700 Buena Vista Ave, Piscatawa
 y, NJ 08854, United States
ROOM: Dine Below the Line
DESCRIPTION:Dine Below the Line has transformed into a friendly cooking co
 mpetition showcasing local food pantries and their impact in the community
  while taking items commonly found in food pantries and elevating them to 
 a healthy, nutritious meal!The Dine Below the Line hunger awareness event 
 was conceived as a Rutgers Intern project in 2016 in partnership with MCFO
 ODS, now known as REPLENISH, and has taken wing. REPLENISH has partnered 
 with different pantries to move the event throughout the County each year.
   The first event was attended by about 50 people and has continued to gr
 ow with 200 people attending the last in person event with guests includin
 g county and local government officials, county non-profits, local busines
 ses, food pantry volunteers, parishioners, food pantry clients, and many o
 ther individual stakeholders in the fight against hunger.To register for t
 his free Middlesex County event open to all ages, please click here. 
URL:https://piscatawaynj.librarycalendar.com/event/dine-below-line-1223
END:VEVENT
END:VCALENDAR
